BEGIN:VCALENDAR
VERSION:2.0
X-WR-CALNAME:EventsCalendar
BEGIN:VEVENT
CATEGORIES:Category,Uni Events
DESCRIPTION:  The conference will take place over four days from December 7-10th. To allow for as many timezones as possible, overlapping with as many clients as possible the conference will take place at the following times each day, with it running slightly longer on some days:  Central Europe: 5pm-7pm UK &amp; Ireland: 4-6pm East Coast US: 11am-1pm&nbsp; West Coast US: 8-10am  Learn about:  New features recently introduced Our short and medium term product road map including feature previews Client examples, best practice and success stories General industry challenges we can help address Q &amp; A and panel discussions  The event will be recorded but live participation is encouraged :)&nbsp; Register now  10821
DTSTAMP:20260425T184652
DTSTART:20211207T090000
DTEND:20211207T090000
LOCATION:
SUMMARY;LANGUAGE=en-us:tForum 2021
UID:51376ff518eea8ddae3e2883f9a95aef@cdetbie-cms01-production.terminalfour.net
END:VEVENT
BEGIN:VEVENT
CATEGORIES:Category,Uni Events
DESCRIPTION:  The conference will take place over four days from December 7-10th. To allow for as many timezones as possible, overlapping with as many clients as possible the conference will take place at the following times each day, with it running slightly longer on some days:  Central Europe: 5pm-7pm UK &amp; Ireland: 4-6pm East Coast US: 11am-1pm&nbsp; West Coast US: 8-10am  Learn about:  New features recently introduced Our short and medium term product road map including feature previews Client examples, best practice and success stories General industry challenges we can help address Q &amp; A and panel discussions  The event will be recorded but live participation is encouraged :)&nbsp; Register now  10821
DTSTAMP:20260425T184652
DTSTART:20211208T090000
DTEND:20211208T090000
LOCATION:
SUMMARY;LANGUAGE=en-us:tForum 2021
UID:d806ae62252e1fd51458207ef7f2a3fd@cdetbie-cms01-production.terminalfour.net
END:VEVENT
BEGIN:VEVENT
CATEGORIES:Category,Uni Events
DESCRIPTION:  The conference will take place over four days from December 7-10th. To allow for as many timezones as possible, overlapping with as many clients as possible the conference will take place at the following times each day, with it running slightly longer on some days:  Central Europe: 5pm-7pm UK &amp; Ireland: 4-6pm East Coast US: 11am-1pm&nbsp; West Coast US: 8-10am  Learn about:  New features recently introduced Our short and medium term product road map including feature previews Client examples, best practice and success stories General industry challenges we can help address Q &amp; A and panel discussions  The event will be recorded but live participation is encouraged :)&nbsp; Register now  10821
DTSTAMP:20260425T184652
DTSTART:20211209T090000
DTEND:20211209T090000
LOCATION:
SUMMARY;LANGUAGE=en-us:tForum 2021
UID:d138402ef69a362e34db76823bd97ff8@cdetbie-cms01-production.terminalfour.net
END:VEVENT
BEGIN:VEVENT
CATEGORIES:Category,Uni Events
DESCRIPTION:  The conference will take place over four days from December 7-10th. To allow for as many timezones as possible, overlapping with as many clients as possible the conference will take place at the following times each day, with it running slightly longer on some days:  Central Europe: 5pm-7pm UK &amp; Ireland: 4-6pm East Coast US: 11am-1pm&nbsp; West Coast US: 8-10am  Learn about:  New features recently introduced Our short and medium term product road map including feature previews Client examples, best practice and success stories General industry challenges we can help address Q &amp; A and panel discussions  The event will be recorded but live participation is encouraged :)&nbsp; Register now  10821
DTSTAMP:20260425T184652
DTSTART:20211210T090000
DTEND:20211210T090000
LOCATION:
SUMMARY;LANGUAGE=en-us:tForum 2021
UID:e6d85abaeaa195877ae1154ea5652a76@cdetbie-cms01-production.terminalfour.net
END:VEVENT
END:VCALENDAR

